BEGIN:VCALENDAR
METHOD:PUBLISH
PRODID:-//github.com/rianjs/ical.net//NONSGML ical.net 4.0//EN
VERSION:2.0
X-WR-CALNAME:Samantha Smith Elementary PTSA
BEGIN:VEVENT
CREATED:20250816T185532
DTEND;VALUE=DATE:20260403
DTSTAMP:20260423T000507Z
DTSTART;VALUE=DATE:20260402
LAST-MODIFIED:20250816T185532
SEQUENCE:0
STATUS:CONFIRMED
SUMMARY:STEM Night
TRANSP:TRANSPARENT
UID:143018@ourschoolpages.com
END:VEVENT
END:VCALENDAR
